BEGIN:VCALENDAR
VERSION:2.0
PRODID:-//ddaysoftware.com//NONSGML DDay.iCal 1.0//EN
BEGIN:VTIMEZONE
TZID:W. Europe Standard Time
BEGIN:STANDARD
DTSTART:20251002T030000
RRULE:FREQ=YEARLY;BYDAY=-1SU;BYHOUR=3;BYMINUTE=0;BYMONTH=10
TZNAME:W. Europe Standard Time
TZOFFSETFROM:+0200
TZOFFSETTO:+0100
END:STANDARD
BEGIN:DAYLIGHT
DTSTART:20250301T020000
RRULE:FREQ=YEARLY;BYDAY=-1SU;BYHOUR=2;BYMINUTE=0;BYMONTH=3
TZNAME:W. Europe Daylight Time
TZOFFSETFROM:+0100
TZOFFSETTO:+0200
END:DAYLIGHT
END:VTIMEZONE
BEGIN:VEVENT
CATEGORIES:Landrätetagung
DESCRIPTION:Am 15.&16. Oktober 2025 fand im Landkreis Kronach die 56. Landr
 ätetagung des Bayerischen Landkreistags unter dem Leitthema „Innovation un
 d Verantwortung: Gemeinsam für zukunftsfähige Landkreise“ statt.\n\nhttps:
 //www.bay-landkreistag.de/veranstaltungen/vergangene-termine-des-bayerisch
 en-landkreistages/landraetetagung-2025-in-kronach/
DTEND:20251016T120000
DTSTAMP:20260421T131019Z
DTSTART:20251015T133000
SEQUENCE:0
SUMMARY:56. Landrätetagung 2025 in Kronach
UID:128690
URL:https://www.bay-landkreistag.de/veranstaltungen/vergangene-termine-des-
 bayerischen-landkreistages/landraetetagung-2025-in-kronach/
END:VEVENT
END:VCALENDAR
