BEGIN:VCALENDAR
VERSION:2.0
PRODID:-//ddaysoftware.com//NONSGML DDay.iCal 1.0//EN
BEGIN:VTIMEZONE
TZID:W. Europe Standard Time
BEGIN:STANDARD
DTSTART:20251002T030000
RRULE:FREQ=YEARLY;BYDAY=-1SU;BYHOUR=3;BYMINUTE=0;BYMONTH=10
TZNAME:W. Europe Standard Time
TZOFFSETFROM:+0200
TZOFFSETTO:+0100
END:STANDARD
BEGIN:DAYLIGHT
DTSTART:20250301T020000
RRULE:FREQ=YEARLY;BYDAY=-1SU;BYHOUR=2;BYMINUTE=0;BYMONTH=3
TZNAME:W. Europe Daylight Time
TZOFFSETFROM:+0100
TZOFFSETTO:+0200
END:DAYLIGHT
END:VTIMEZONE
BEGIN:VEVENT
CATEGORIES:Landrätetagung
DESCRIPTION:Am 23./24. Oktober fand die 51. Landrätetagung des Bayerischen 
 Landkreistags in Bad Füssing statt. Im Mittelpunkt dieser Fachtagung der 7
 1 bayerischen Landrätinnen und Landräte stand die Digitalisierung der komm
 unalen Daseinsvorsorge und damit die enormen Potenziale für die Gleichwert
 igkeit der Lebensverhältnisse von Stadt und Land. „Die Digitalisierung kan
 n gute Antworten auf viele kommunale Herausforderungen geben und sie kann 
 – was entscheidend ist – die Lebensqualität in allen Landkreisen verbesser
 n\, sodass jedermann profitiert“\, so Landkreistagspräsident Christian Ber
 nreiter\, Landrat von Deggendorf\, bei der Eröffnung.\n\nhttps://www.bay-l
 andkreistag.de/veranstaltungen/vergangene-termine-des-bayerischen-landkrei
 stages/landraetetagung-2019-in-bad-fuessing/
DTEND:20191024T150000
DTSTAMP:20260421T131401Z
DTSTART:20191023T090000
SEQUENCE:0
SUMMARY:51. Landrätetagung 2019 in Bad Füssing
UID:114681
URL:https://www.bay-landkreistag.de/veranstaltungen/vergangene-termine-des-
 bayerischen-landkreistages/landraetetagung-2019-in-bad-fuessing/
END:VEVENT
END:VCALENDAR
