BEGIN:VCALENDAR
VERSION:2.0
PRODID:-//ddaysoftware.com//NONSGML DDay.iCal 1.0//EN
BEGIN:VTIMEZONE
TZID:W. Europe Standard Time
BEGIN:STANDARD
DTSTART:20251002T030000
RRULE:FREQ=YEARLY;BYDAY=-1SU;BYHOUR=3;BYMINUTE=0;BYMONTH=10
TZNAME:W. Europe Standard Time
TZOFFSETFROM:+0200
TZOFFSETTO:+0100
END:STANDARD
BEGIN:DAYLIGHT
DTSTART:20250301T020000
RRULE:FREQ=YEARLY;BYDAY=-1SU;BYHOUR=2;BYMINUTE=0;BYMONTH=3
TZNAME:W. Europe Daylight Time
TZOFFSETFROM:+0100
TZOFFSETTO:+0200
END:DAYLIGHT
END:VTIMEZONE
BEGIN:VEVENT
CATEGORIES:Landkreisversammlung
DESCRIPTION:In Bad Windsheim fand vom 7. bis 8. Mai die Landkreisversammlun
 g 2025 mit dem Thema "NEUSTART JETZT: Strukturell\, wirtschaftlich und fin
 anziell" statt.\n\nhttps://www.bay-landkreistag.de/veranstaltungen/vergang
 ene-termine-des-bayerischen-landkreistages/bayerischer-landkreistag-2025-i
 n-bad-windsheim/
DTEND:20250508T123000
DTSTAMP:20260423T082345Z
DTSTART:20250507T133000
SEQUENCE:0
SUMMARY:Bayerischer Landkreistag 2025 in Bad Windsheim
UID:126661
URL:https://www.bay-landkreistag.de/veranstaltungen/vergangene-termine-des-
 bayerischen-landkreistages/bayerischer-landkreistag-2025-in-bad-windsheim/
END:VEVENT
END:VCALENDAR
